BEGIN:VCALENDAR
VERSION:2.0
PRODID:-//W3OI - Lehigh Valley Amateur Radio Club - ECPv6.15.20//NONSGML v1.0//EN
CALSCALE:GREGORIAN
METHOD:PUBLISH
X-WR-CALNAME:W3OI - Lehigh Valley Amateur Radio Club
X-ORIGINAL-URL:https://www.w3oi.org
X-WR-CALDESC:Events for W3OI - Lehigh Valley Amateur Radio Club
REFRESH-INTERVAL;VALUE=DURATION:PT1H
X-Robots-Tag:noindex
X-PUBLISHED-TTL:PT1H
BEGIN:VTIMEZONE
TZID:America/New_York
BEGIN:DAYLIGHT
TZOFFSETFROM:-0500
TZOFFSETTO:-0400
TZNAME:EDT
DTSTART:20240310T070000
END:DAYLIGHT
BEGIN:STANDARD
TZOFFSETFROM:-0400
TZOFFSETTO:-0500
TZNAME:EST
DTSTART:20241103T060000
END:STANDARD
BEGIN:DAYLIGHT
TZOFFSETFROM:-0500
TZOFFSETTO:-0400
TZNAME:EDT
DTSTART:20250309T070000
END:DAYLIGHT
BEGIN:STANDARD
TZOFFSETFROM:-0400
TZOFFSETTO:-0500
TZNAME:EST
DTSTART:20251102T060000
END:STANDARD
BEGIN:DAYLIGHT
TZOFFSETFROM:-0500
TZOFFSETTO:-0400
TZNAME:EDT
DTSTART:20260308T070000
END:DAYLIGHT
BEGIN:STANDARD
TZOFFSETFROM:-0400
TZOFFSETTO:-0500
TZNAME:EST
DTSTART:20261101T060000
END:STANDARD
END:VTIMEZONE
BEGIN:VEVENT
DTSTART;TZID=America/New_York:20250927T110000
DTEND;TZID=America/New_York:20250927T170000
DTSTAMP:20260421T035255
CREATED:20250925T012753Z
LAST-MODIFIED:20250925T012753Z
UID:1983-1758970800-1758992400@www.w3oi.org
SUMMARY:POTA Event 9/27
DESCRIPTION:Matt N3VAN will be leading a POTA activation on Saturday\, Sept 27th starting at 11am at PA State Game Lands 182. \nThe event is weather dependent. \nHere is the Google pin and coordinates:\nGPS: 40.5299\, -75.8054\nGoogle Map: https://maps.app.goo.gl/a3DiumDTW3DvXpAz9 \nThese events are excellent opportunities for members to try equipment\, antennas\, techniques and even bring your own to get on the air. \nTechnicians wishing to use HF bands are encouraged to attend.  You can gain valuable HF experience at these events.
URL:https://www.w3oi.org/events/pota-event-9-27/
LOCATION:State Game Lands 182
END:VEVENT
END:VCALENDAR